BEGIN:VCALENDAR
VERSION:2.0
PRODID:-//National AIDS Commission - ECPv6.14.0//NONSGML v1.0//EN
CALSCALE:GREGORIAN
METHOD:PUBLISH
X-WR-CALNAME:National AIDS Commission
X-ORIGINAL-URL:https://www.aidsmalawi.org.mw
X-WR-CALDESC:Events for National AIDS Commission
REFRESH-INTERVAL;VALUE=DURATION:PT1H
X-Robots-Tag:noindex
X-PUBLISHED-TTL:PT1H
BEGIN:VTIMEZONE
TZID:Africa/Blantyre
BEGIN:STANDARD
TZOFFSETFROM:+0200
TZOFFSETTO:+0200
TZNAME:CAT
DTSTART:20250101T000000
END:STANDARD
END:VTIMEZONE
BEGIN:VEVENT
DTSTART;VALUE=DATE:20251201
DTEND;VALUE=DATE:20251202
DTSTAMP:20260423T001422
CREATED:20250213T120619Z
LAST-MODIFIED:20250213T120619Z
UID:14920-1764547200-1764633599@www.aidsmalawi.org.mw
SUMMARY:World AIDS Day
DESCRIPTION:World AIDS Day\, observed every December 1st\, is a global initiative aimed at raising awareness about the HIV/AIDS pandemic\, honoring those who have lost their lives to AIDS-related illnesses\, and supporting individuals living with HIV/AIDS. Established in 1988\, the day unites communities worldwide to combat HIV/AIDS\, challenge stigma and discrimination\, and advocate for access to treatment\, prevention\, and support services. Through educational campaigns\, fundraising events\, and public health initiatives\, World AIDS Day empowers individuals\, fosters dialogue\, and promotes actions to end the HIV/AIDS epidemic. National AIDS Commission\, Malawi\, actively supports this event each year\, commemorating it at a chosen location across the country.
URL:https://www.aidsmalawi.org.mw/event/world-aids-day-2/
ORGANIZER;CN="National AIDS Commission":MAILTO:zenengeyae@aidsmalawi.org.mw
END:VEVENT
END:VCALENDAR